BEGIN:VCALENDAR
VERSION:2.0
PRODID:-//Jugendhof Brandenburg - ECPv6.15.20//NONSGML v1.0//EN
CALSCALE:GREGORIAN
METHOD:PUBLISH
X-WR-CALNAME:Jugendhof Brandenburg
X-ORIGINAL-URL:https://jugendhof-brandenburg.de
X-WR-CALDESC:Veranstaltungen für Jugendhof Brandenburg
REFRESH-INTERVAL;VALUE=DURATION:PT1H
X-Robots-Tag:noindex
X-PUBLISHED-TTL:PT1H
BEGIN:VTIMEZONE
TZID:Europe/Berlin
BEGIN:DAYLIGHT
TZOFFSETFROM:+0100
TZOFFSETTO:+0200
TZNAME:CEST
DTSTART:20200329T010000
END:DAYLIGHT
BEGIN:STANDARD
TZOFFSETFROM:+0200
TZOFFSETTO:+0100
TZNAME:CET
DTSTART:20201025T010000
END:STANDARD
BEGIN:DAYLIGHT
TZOFFSETFROM:+0100
TZOFFSETTO:+0200
TZNAME:CEST
DTSTART:20210328T010000
END:DAYLIGHT
BEGIN:STANDARD
TZOFFSETFROM:+0200
TZOFFSETTO:+0100
TZNAME:CET
DTSTART:20211031T010000
END:STANDARD
BEGIN:DAYLIGHT
TZOFFSETFROM:+0100
TZOFFSETTO:+0200
TZNAME:CEST
DTSTART:20220327T010000
END:DAYLIGHT
BEGIN:STANDARD
TZOFFSETFROM:+0200
TZOFFSETTO:+0100
TZNAME:CET
DTSTART:20221030T010000
END:STANDARD
END:VTIMEZONE
BEGIN:VEVENT
DTSTART;TZID=Europe/Berlin:20210810T090000
DTEND;TZID=Europe/Berlin:20210810T120000
DTSTAMP:20260425T153052
CREATED:20210805T121509Z
LAST-MODIFIED:20210805T121527Z
UID:2455-1628586000-1628596800@jugendhof-brandenburg.de
SUMMARY:Birnen pflücken
DESCRIPTION:Kommt vorbei…
URL:https://jugendhof-brandenburg.de/veranstaltung/birnen-pfluecken/
LOCATION:Jugendhof Brandenburg
CATEGORIES:Umweltbildung
ORGANIZER;CN="Jugendhof Brandenburg":MAILTO:umweltbildung@jhbr.de
END:VEVENT
END:VCALENDAR