BEGIN:VCALENDAR
VERSION:2.0
PRODID:-//Jugendhof Brandenburg - ECPv6.15.20//NONSGML v1.0//EN
CALSCALE:GREGORIAN
METHOD:PUBLISH
X-WR-CALNAME:Jugendhof Brandenburg
X-ORIGINAL-URL:https://jugendhof-brandenburg.de
X-WR-CALDESC:Veranstaltungen für Jugendhof Brandenburg
REFRESH-INTERVAL;VALUE=DURATION:PT1H
X-Robots-Tag:noindex
X-PUBLISHED-TTL:PT1H
BEGIN:VTIMEZONE
TZID:Europe/Berlin
BEGIN:DAYLIGHT
TZOFFSETFROM:+0100
TZOFFSETTO:+0200
TZNAME:CEST
DTSTART:20210328T010000
END:DAYLIGHT
BEGIN:STANDARD
TZOFFSETFROM:+0200
TZOFFSETTO:+0100
TZNAME:CET
DTSTART:20211031T010000
END:STANDARD
BEGIN:DAYLIGHT
TZOFFSETFROM:+0100
TZOFFSETTO:+0200
TZNAME:CEST
DTSTART:20220327T010000
END:DAYLIGHT
BEGIN:STANDARD
TZOFFSETFROM:+0200
TZOFFSETTO:+0100
TZNAME:CET
DTSTART:20221030T010000
END:STANDARD
BEGIN:DAYLIGHT
TZOFFSETFROM:+0100
TZOFFSETTO:+0200
TZNAME:CEST
DTSTART:20230326T010000
END:DAYLIGHT
BEGIN:STANDARD
TZOFFSETFROM:+0200
TZOFFSETTO:+0100
TZNAME:CET
DTSTART:20231029T010000
END:STANDARD
END:VTIMEZONE
BEGIN:VEVENT
DTSTART;TZID=Europe/Berlin:20221026T090000
DTEND;TZID=Europe/Berlin:20221026T150000
DTSTAMP:20260424T143554
CREATED:20220927T105948Z
LAST-MODIFIED:20221024T074022Z
UID:2559-1666774800-1666796400@jugendhof-brandenburg.de
SUMMARY:Herbstferienprogramm - Drachen bauen\, gestalten\, fliegen lassen
DESCRIPTION:AUSGEBUCHT! \nFür Kinder ab 5 – 14 Jahren. Anmeldeschluss: Montag vor dem Projekttag ( 31.10.) \nAnmeldung per Mail an: johanna.dieckmann@jhbr.de
URL:https://jugendhof-brandenburg.de/veranstaltung/herbstferienprogramm-drachen-bauen-gestalten-fliegen-lassen/
LOCATION:Jugendhof Brandenburg
CATEGORIES:Umweltbildung
ORGANIZER;CN="Jugendhof Brandenburg":MAILTO:umweltbildung@jhbr.de
END:VEVENT
END:VCALENDAR