BEGIN:VCALENDAR
VERSION:2.0
PRODID:-//Jugendhof Brandenburg - ECPv6.15.20//NONSGML v1.0//EN
CALSCALE:GREGORIAN
METHOD:PUBLISH
X-WR-CALNAME:Jugendhof Brandenburg
X-ORIGINAL-URL:https://jugendhof-brandenburg.de
X-WR-CALDESC:Veranstaltungen für Jugendhof Brandenburg
REFRESH-INTERVAL;VALUE=DURATION:PT1H
X-Robots-Tag:noindex
X-PUBLISHED-TTL:PT1H
BEGIN:VTIMEZONE
TZID:Europe/Berlin
BEGIN:DAYLIGHT
TZOFFSETFROM:+0100
TZOFFSETTO:+0200
TZNAME:CEST
DTSTART:20230326T010000
END:DAYLIGHT
BEGIN:STANDARD
TZOFFSETFROM:+0200
TZOFFSETTO:+0100
TZNAME:CET
DTSTART:20231029T010000
END:STANDARD
BEGIN:DAYLIGHT
TZOFFSETFROM:+0100
TZOFFSETTO:+0200
TZNAME:CEST
DTSTART:20240331T010000
END:DAYLIGHT
BEGIN:STANDARD
TZOFFSETFROM:+0200
TZOFFSETTO:+0100
TZNAME:CET
DTSTART:20241027T010000
END:STANDARD
BEGIN:DAYLIGHT
TZOFFSETFROM:+0100
TZOFFSETTO:+0200
TZNAME:CEST
DTSTART:20250330T010000
END:DAYLIGHT
BEGIN:STANDARD
TZOFFSETFROM:+0200
TZOFFSETTO:+0100
TZNAME:CET
DTSTART:20251026T010000
END:STANDARD
END:VTIMEZONE
BEGIN:VEVENT
DTSTART;TZID=Europe/Berlin:20240327T090000
DTEND;TZID=Europe/Berlin:20240327T133000
DTSTAMP:20260423T122133
CREATED:20240226T210327Z
LAST-MODIFIED:20240307T111042Z
UID:2670-1711530000-1711546200@jugendhof-brandenburg.de
SUMMARY:Osterferienprogramm
DESCRIPTION:Spiele\, Spaß und Backen sowie eine bildreiche Ostereiersuche auf dem Gelände. Ein lustiger Tag kurz vor dem Osterfest. \nFür Kinder von 5 – 14 Jahren. \nAnmeldung bis zum 22.3.2024 \nper Mail: johanna.dieckmann@jhbr.de \n 
URL:https://jugendhof-brandenburg.de/veranstaltung/osterferienprogramm/
LOCATION:Jugendhof Brandenburg
CATEGORIES:Umweltbildung
ORGANIZER;CN="Jugendhof Brandenburg":MAILTO:umweltbildung@jhbr.de
END:VEVENT
END:VCALENDAR